BEGIN:VCALENDAR
VERSION:2.0
PRODID:-//ChamberMaster//Event Calendar 2.0//EN
METHOD:PUBLISH
X-PUBLISHED-TTL:P3D
REFRESH-INTERVAL:P3D
CALSCALE:GREGORIAN
BEGIN:VEVENT
DTSTART:20220216T150000Z
DTEND:20220216T160000Z
X-MICROSOFT-CDO-ALLDAYEVENT:FALSE
SUMMARY:NEACCE Chamber Exchange
DESCRIPTION:Chamber Exchange is an opportunity to network and share resources with your Chamber peers. \n\nThis is an opportunity to connect   please make sure to have your video ready (no video = no join).\n\nRegister in advance to receive the zoom meeting link.\n\nSend agenda requests to melissa@nvcoc.com.\n\n \n\nAgenda (thus far):
X-ALT-DESC;FMTTYPE=text/html:Chamber Exchange is an opportunity to network and share resources with your Chamber peers.&nbsp\;<br />\nThis is an opportunity to connect &ndash\; please make sure to have your video ready (no video = no join).<br />\nRegister in advance to receive the zoom meeting link.<br />\nSend agenda requests to melissa@nvcoc.com.<br />\n&nbsp\;<br />\nAgenda (thus far):
LOCATION:Zoom Register for link
UID:e.9060.364
SEQUENCE:3
DTSTAMP:20260425T160224Z
URL:http://neacce.chambermaster.com/events/details/neacce-chamber-exchange-364
END:VEVENT

END:VCALENDAR
